Workbook

Sheet 세입세출 결산서
A2: 2025년도 세입,세출 결산서
A4: 1. 총괄표 / 시설명 : 상주시가족센터 | L4: 기간 : 2025. 01. 01 ~ 2025. 12. 31. / 단위 : 원
A5: 세입 | H5: 세출
A6: 과목 | D6: 2025년 예산 | F6: 2025년 결산 (B) | G6: 증감액 (B-A) | H6: 과목 | K6: 2025년 예산 | M6: 2025년 결산 (B) | N6: 증감액 (B-A)
A7: 관 | D7: 본예산 | E7: <4차 추경예산> | H7: 관 | J7: 항 | K7: 본예산 | L7: <4차 추경예산>
A8: (전기)이월금 | D8: ='[1]세입결산서 '!D12 -> 1201389344 | E8: ='[1]세입결산서 '!E12 -> 1245529227 | F8: ='[1]세입결산서 '!F12 -> 1245529227 | G8: =+F8-E8 -> 0 | H8: 사무비 | J8: 인건비 | K8: =[1]세출결산서!D12 -> 712727090 | L8: =[1]세출결산서!E12 -> 718022240 | M8: =[1]세출결산서!F12 -> 717772240 | N8: =+M8-L8 -> -250000
A9: 입소자부담금 | D9: 0 | E9: 0 | F9: 0 | G9: =+F9-E9 -> 0 | J9: 업무추진비 | K9: =[1]세출결산서!D15 -> 6000000 | L9: =[1]세출결산서!E15 -> 3860500 | M9: =[1]세출결산서!F15 -> 3390500 | N9: =+M9-L9 -> -470000
A10: 사업수입 | D10: 0 | E10: 0 | F10: 0 | G10: =+F10-E10 -> 0 | J10: 운영비 | K10: =[1]세출결산서!D22 -> 32254910 | L10: =[1]세출결산서!E22 -> 34511260 | M10: =[1]세출결산서!F22 -> 33303500 | N10: =+M10-L10 -> -1207760
A11: 과년도수입 | D11: 0 | E11: 0 | F11: 0 | G11: =+F11-E11 -> 0 | J11: (소계) | K11: =SUM(K8:K10) -> 750982000 | L11: =SUM(L8:L10) -> 756394000 | M11: =SUM(M8:M10) -> 754466240 | N11: =SUM(N8:N10) -> -1927760
A12: 보조금수입 | D12: ='[1]세입결산서 '!D17 -> 6219077000 | E12: ='[1]세입결산서 '!F17 -> 6585551000 | F12: ='[1]세입결산서 '!F17 -> 6585551000 | G12: =+F12-E12 -> 0 | H12: 재산조성비 | K12: =[1]세출결산서!D27 -> 5000000 | L12: =[1]세출결산서!E27 -> 3518000 | M12: =[1]세출결산서!F27 -> 3518000 | N12: =+M12-L12 -> 0
A13: 후원금 | D13: ='[1]세입결산서 '!D20 -> 8000000 | E13: ='[1]세입결산서 '!E20 -> 14650000 | F13: ='[1]세입결산서 '!F20 -> 17625000 | G13: =+F13-E13 -> 2975000 | H13: 사업비 | J13: 운영비 | K13: 0 | L13: 0 | M13: 0 | N13: =+M13-L13 -> 0
A14: 요양급여수입 | D14: 0 | E14: 0 | F14: 0 | G14: =+F14-E14 -> 0 | J14: 교육비 | K14: 0 | L14: 0 | M14: 0 | N14: =+M14-L14 -> 0
A15: 차입금 | D15: 0 | E15: 0 | F15: 0 | G15: =+F15-E15 -> 0 | J15: 사업비 | K15: =[1]세출결산서!D62 -> 5827395000 | L15: =[1]세출결산서!E62 -> 6145004180 | M15: =[1]세출결산서!F62 -> 5519142530 | N15: =+M15-L15 -> -625861650
A16: 법인전입금 | D16: 10000000 | E16: 10000000 | F16: ='[1]세입결산서 '!F22 -> 10000000 | G16: =+F16-E16 -> 0 | J16: (소계) | K16: =SUM(K13:K15) -> 5827395000 | L16: =SUM(L13:L15) -> 6145004180 | M16: =SUM(M13:M15) -> 5519142530 | N16: =SUM(N13:N15) -> -625861650
A17: 기타전입금 | D17: 0 | E17: 0 | F17: 0 | G17: =+F17-E17 -> 0 | H17: 법인회계 전출금 | K17: 0 | L17: 0 | M17: 0 | N17: =+M17-L17 -> 0
A18: 잡수입 | D18: ='[1]세입결산서 '!D25 -> 133656 | E18: ='[1]세입결산서 '!E25 -> 222773 | F18: ='[1]세입결산서 '!F25 -> 237707 | G18: =+F18-E18 -> 14934 | H18: 기타 전출금 | K18: 0 | L18: 0 | M18: 0 | N18: =+M18-L18 -> 0
H19: 과년도지출 | K19: 0 | L19: 0 | M19: 0 | N19: =+M19-L19 -> 0
H20: 부채상환금 | K20: 0 | L20: 0 | M20: 0 | N20: =+M20-L20 -> 0
H21: 잡지출 | K21: =[1]세출결산서!D63 -> 133656 | L21: =[1]세출결산서!E63 -> 222773 | M21: =[1]세출결산서!F63 -> 0 | N21: =+M21-L21 -> -222773
H22: 예비비 및 기타 | J22: 예비비 | K22: =[1]세출결산서!D66 -> 1000000 | L22: =[1]세출결산서!E66 -> 511188 | M22: 0 | N22: =+M22-L22 -> -511188
J23: 반환금 | K23: =[1]세출결산서!D67 -> 854089344 | L23: =[1]세출결산서!E67 -> 950302859 | M23: =[1]세출결산서!F67 -> 869902547 | N23: =+M23-L23 -> -80400312
H24: 적립금 및 준비금 | K24: 0 | L24: 0 | M24: 0 | N24: =+M24-L24 -> 0
H25: (차기)이월금 | K25: 0 | L25: 0 | M25: =[1]세출결산서!F75 -> 711913617 | N25: =+M25-L25 -> 711913617
A26: 총계 | D26: =SUM(D8:D18) -> 7438600000 | E26: =SUM(E8:E25) -> 7855953000 | F26: =SUM(F8:F25) -> 7858942934 | G26: =SUM(G8:G25) -> 2989934 | H26: 총계 | K26: =SUM(K11,K12,K16,K17:K25) -> 7438600000 | L26: =SUM(L11,L12,L16,L17:L25) -> 7855953000 | M26: =SUM(M11,M12,M16,M17:M25) -> 7858942934 | N26: =SUM(N11,N12,N16,N17:N25) -> 2989934

Sheet 세입결산서 
A1: 2025년도 세입 결산서
A3: 2. 세입 / 시설명 : 상주시가족센터 | E3: 기간 : 2025. 01. 01 ~ 2025. 12. 31. / 단위 : 원
A4: 세입
A5: 과목 | D5: 2025년 예산 | F5: 2025년 결산 (B) | G5: 증감액 (B-A) | H5: 산출내역
A6: 관 | B6: 항 | C6: 목 | D6: 본예산 | E6: <4차 추경예산>
A7: 이월금 | B7: 이월금 | C7: 보조금이월금 | D7: 0 | E7: 0 | F7: 0 | G7: =F7-E7 -> 0
C8: 후원금이월금 | D8: 6000000 | E8: 9933094 | F8: 9933094 | G8: =F8-E8 -> 0
C9: 사업비이월금 | D9: 0 | E9: 0 | F9: 0 | G9: =F9-E9 -> 0
C10: 법인전입금이월금 | D10: 3000000 | E10: 2901188 | F10: 2901188 | G10: =F10-E10 -> 0
C11: 이월금 | D11: 1192389344 | E11: 1232694945 | F11: 1232694945 | G11: =F11-E11 -> 0
A12: 합계 | D12: =SUM(D7:D11) -> 1201389344 | E12: =SUM(E7:E11) -> 1245529227 | F12: =SUM(F7:F11) -> 1245529227 | G12: =SUM(G7:G11) -> 0
A13: 보조금 | B13: 보조금 | C13: 국고보조금 | D13: 4634031000 | E13: 4869015000 | F13: 4869015000 | G13: =F13-E13 -> 0
C14: 시도보조금 | D14: 1362854000 | E14: 1467544000 | F14: 1467544000 | G14: =F14-E14 -> 0
C15: 시군구보조금 | D15: 222192000 | E15: 224992000 | F15: 224992000 | G15: =F15-E15 -> 0
C16: 기타보조금 | D16: 0 | E16: 24000000 | F16: 24000000 | G16: =F16-E16 -> 0
A17: 합계 | D17: =SUM(D13:D16) -> 6219077000 | E17: =SUM(E13:E16) -> 6585551000 | F17: =SUM(F13:F16) -> 6585551000 | G17: =SUM(G13:G16) -> 0
A18: 후원금 | B18: 후원금 | C18: 비지정후원금 | D18: 8000000 | E18: 10000000 | F18: 10945000 | G18: =F18-E18 -> 945000
C19: 지정후원금 | D19: 0 | E19: 4650000 | F19: 6680000 | G19: =F19-E19 -> 2030000
A20: 합계 | D20: =SUM(D18:D19) -> 8000000 | E20: =SUM(E18:E19) -> 14650000 | F20: =SUM(F18:F19) -> 17625000 | G20: =SUM(G18:G19) -> 2975000
A21: 전입금 | B21: 전입금 | C21: 법인전입금 | D21: 10000000 | E21: 10000000 | F21: 10000000 | G21: =F21-E21 -> 0
A22: 합계 | D22: =D21 -> 10000000 | E22: =E21 -> 10000000 | F22: =SUM(F21:F21) -> 10000000 | G22: =SUM(G21:G21) -> 0
A23: 잡수입 | B23: 잡수입 | C23: 예금이자수입 | D23: 133656 | E23: 22773 | F23: 40007 | G23: =F23-E23 -> 17234
C24: 기타잡수입 | D24: 0 | E24: 200000 | F24: 197700 | G24: =F24-E24 -> -2300 | H24: 안심귀가본인부담금
A25: 합계 | D25: =SUM(D23:D24) -> 133656 | E25: =SUM(E23:E24) -> 222773 | F25: =SUM(F23:F24) -> 237707 | G25: =SUM(G23:G24) -> 14934
A26: 총계 | D26: =D12+D17+D20+D22+D25 -> 7438600000 | E26: =SUM(E25,E22,E29,E20,E17,E12) -> 7855953000 | F26: =SUM(F25,F22,F29,F20,F17,F12) -> 7858942934 | G26: =SUM(G25,G22,G29,L18,G20,G17,G12) -> 2989934

Sheet 세출결산서
A1: 2025년도 세출 결산서
A3: 3. 세출 / 시설명 : 상주시가족센터 | E3: 기간 : 2025. 01. 01 ~ 2025. 12. 31. / 단위 : 원
A4: 세 출
A5: 과목 | D5: 2025년 예산 | F5: 2025년 결산 (B) | G5: 증감액 (B-A) | H5: 산출내역
A6: 관 | B6: 항 | C6: 목 | D6: 본예산 | E6: <4차 추경예산>
A7: 사무비 | B7: 인건비 | C7: 급 여 | D7: 515379880 | E7: 513723430 | F7: 513723430 | G7: =F7-E7 -> 0 | H7: 센터 종사자 16명
C8: 제수당 | D8: 77947550 | E8: 87414040 | F8: 87164040 | G8: =F8-E8 -> -250000 | H8: 명절휴가비, 시간외수당, 관리수당
C9: 퇴직금 및 퇴직적립금 | D9: 51181690 | E9: 51634000 | F9: 51634000 | G9: =F9-E9 -> 0 | H9: 퇴직적립금
C10: 사회보험부담금 | D10: 68217970 | E10: 65250770 | F10: 65250770 | G10: =F10-E10 -> 0 | H10: 사회보험금
C11: 기타후생경비 | D11: 0 | E11: 0 | F11: 0 | G11: =F11-E11 -> 0
C12: (소계) | D12: =SUM(D7:D11) -> 712727090 | E12: =SUM(E7:E11) -> 718022240 | F12: =SUM(F7:F11) -> 717772240 | G12: =SUM(G7:G11) -> -250000
B13: 업무추진비 | C13: 기관운영비 | D13: 2800000 | E13: 1715000 | F13: 1675000 | G13: =F13-E13 -> -40000 | H13: 기관운영 및 유관기관 업무 협의
C14: 회의비 | D14: 3200000 | E14: 2145500 | F14: 1715500 | G14: =F14-E14 -> -430000 | H14: 운영위원회, 인사위원회, 직원회의
C15: (소계) | D15: =SUM(D13:D14) -> 6000000 | E15: =SUM(E13:E14) -> 3860500 | F15: =SUM(F13:F14) -> 3390500 | G15: =SUM(G13:G14) -> -470000
B16: 운영비 | C16: 여비 | D16: 4800000 | E16: 4873120 | F16: 4873120 | G16: =F16-E16 -> 0 | H16: 종사자 시내, 시외출장비
C17: 수용비 및 수수료 | D17: 6292910 | E17: 8059490 | F17: 8010320 | G17: =F17-E17 -> -49170 | H17: 사무용품, 소모품
C18: 공공요금 | D18: 9000000 | E18: 7889590 | F18: 7731000 | G18: =F18-E18 -> -158590 | H18: 전기요금, 통신요금
C19: 제세공과금 | D19: 3200000 | E19: 2580060 | F19: 2580060 | G19: =F19-E19 -> 0 | H19: 자동차보험, 자동차세 등
C20: 차량비 | D20: 2000000 | E20: 3496000 | F20: 3496000 | G20: =F20-E20 -> 0 | H20: 차량유류대 및 차량정비
C21: 기타운영비 | D21: 6962000 | E21: 7613000 | F21: 6613000 | G21: =F21-E21 -> -1000000 | H21: 직원워크숍, 피복비
C22: (소계) | D22: =SUM(D16:D21) -> 32254910 | E22: =SUM(E16:E21) -> 34511260 | F22: =SUM(F16:F21) -> 33303500 | G22: =SUM(G16:G21) -> -1207760
A23: 합계 | D23: =D12+D15+D22 -> 750982000 | E23: =SUM(E22,E15,E12) -> 756394000 | F23: =SUM(F22,F15,F12) -> 754466240 | G23: =SUM(G22,G15,G12) -> -1927760
A24: 재산조성비 | B24: 시설비 | C24: 시설비 | D24: 0 | E24: 0 | F24: 0 | G24: =F24-E24 -> 0
C25: 자산취득비 | D25: 4200000 | E25: 3078000 | F25: 3078000 | G25: =F25-E25 -> 0 | H25: 책상, 의자, 노트북 구압 등
C26: 시설장비유지비 | D26: 800000 | E26: 440000 | F26: 440000 | G26: =F26-E26 -> 0 | H26: 상담실 방수공사
C27: (소계) | D27: =SUM(D24:D26) -> 5000000 | E27: =SUM(E24:E26) -> 3518000 | F27: =SUM(F24:F26) -> 3518000 | G27: =SUM(G24:G26) -> 0
A28: 합계 | D28: =D27 -> 5000000 | E28: =SUM(E27) -> 3518000 | F28: =SUM(F27) -> 3518000 | G28: =SUM(G27) -> 0
A29: 사업비 사업비 사업비 | B29: 사업비 사업비 사업비 | C29: 가족관계 | D29: 7000000 | E29: 6800000 | F29: 6800000 | G29: =F29-E29 -> 0 | H29: 부모역할지원: 2,800,000 부부역할지원: 4,000,000
C30: 가족돌봄 | D30: 84000000 | E30: 84600000 | F30: 82850000 | G30: =F30-E30 -> -1750000 | H30: 온가족보듬(가족상담) 7,650,000 온가족보듬(학습정서지원) 49,815,000 온가족보듬(생활도움지원) 2,735,000 온가족보듬(사례관리지원) 1,500,000 온가족보듬(프로그램운영) 19,250,000 온가족보듬(교육및회의) 1,900,000
C31: 가족생활 | D31: 147300000 | E31: 152700000 | F31: 152700000 | G31: =F31-E31 -> 0 | H31: 저학년 학습지원: 8,000,000 고학년 학습지원: 8,000,000 진로설계: 10,000,000 교육비지원: 126,700,000
C32: 가족과 함께하는 지역공동체 | D32: 18000000 | E32: 22283094 | F32: 16960800 | G32: =F32-E32 -> -5322294 | H32: 가족사랑의날: 2,500,000 가족친화프로그램: 3,800,000 다문화가족정착지원: 1,500,000 네트워크: 3,400,000 홍보: 5,760,800
C33: 공동육아나눔터 | D33: 128488000 | E33: 128488000 | F33: 126738000 | G33: =F33-E33 -> -1750000 | H33: 인건비: 100,461,570 운영비: 9,573,040 사업비: 16,703,390
C34: 다문화가족지원(특성화) | D34: 292710000 | E34: 294710000 | F34: 261669620 | G34: =F34-E34 -> -33040380 | H34: 방문교육: 123,150,000 한국어교육: 20,000,000 언어발달: 41,740,000 통번역: 76,779,620
C35: 다뭉화가족 지역맞춤형 학습 및 프로그램 지원 | D35: 35000000 | E35: 37500000 | F35: 35900000 | G35: =F35-E35 -> -1600000 | H35: 공부방: 15,000,000 자조모임: 4,800,000 다함께: 3,000,000 다문화이해: 3,500,000 지역경제자립공동체: 3,400,000 이중언어환경조성: 1,200,000 정착단계별패키지: 1,000,000 상주한바퀴: 1,500,000 정착지원교육: 1,500,000 온가족봉사단: 1,000,000
C36: 결혼이민여성 이중언어강사 일자리창출 | D36: 64104000 | E36: 65104000 | F36: 64384000 | G36: =F36-E36 -> -720000 | H36: 인건비: 36,954,260 운영비: 147,740 사업비: 27,282,000
C37: 결혼이민여성 교육지원 | D37: 500000 | E37: 1000000 | F37: 1000000 | G37: =F37-E37 -> 0 | H37: 결혼이민자 대학등록금 지원
C38: 우리동네아빠교실 | D38: 10000000 | E38: 10000000 | F38: 10000000 | G38: =F38-E38 -> 0 | H38: 인건비: 4,050,000 진행비: 5,950,000
C39: 복지시설종사자복지포인트 | D39: 4650000 | E39: 4650000 | F39: 4537500 | G39: =F39-E39 -> -112500 | H39: 종사자 복지포인트 지원
C40: 공동육아어린이보듬밥상 | D40: 32400000 | E40: 32400000 | F40: 8982000 | G40: =F40-E40 -> -23418000 | H40: 사업비: 8,982,000
C41: 열린맘임신출산서비스지원 | D41: 25800000 | E41: 25800000 | F41: 20774000 | G41: =F41-E41 -> -5026000 | H41: 인건비: 14,716,560 진행비: 6,057,440
... C60: 양성평등기금_행복한 우리 가족 | D60: 0 | E60: 8000000 | F60: 8000000 | G60: =F60-E60 -> 0 | H60: 인건비: 1,250,000 진행비: 6,750,000
C61: (소계) | D61: =SUM(D29:D60) -> 5827395000 | E61: =SUM(E29:E60) -> 6145004180 | F61: =SUM(F29:F60) -> 5519142530 | G61: =SUM(G29:G59) -> -625861650
A62: 합계 | D62: =D61 -> 5827395000 | E62: =E61 -> 6145004180 | F62: =F61 -> 5519142530 | G62: =G61 -> -625861650
A63: 잡지출 | B63: 잡지출 | C63: 잡지출 | D63: 133656 | E63: 222773 | F63: 0 | G63: =F63-E63 -> -222773
C64: (소계) | D64: =D63 -> 133656 | E64: =SUM(E63) -> 222773 | F64: =SUM(F63) -> 0 | G64: =SUM(G63) -> -222773
A65: 합계 | D65: =D64 -> 133656 | E65: =SUM(E64) -> 222773 | F65: =SUM(F64) -> 0 | G65: =SUM(G64) -> -222773
A66: 예비비 및 기타 | B66: 예비비 및 기타 | C66: 예비비 | D66: 1000000 | E66: 511188 | F66: 0 | G66: =F66-E66 -> -511188
C67: 반환금 | D67: 854089344 | E67: 950302859 | F67: 869902547 | G67: =F67-E67 -> -80400312
C68: (소계) | D68: =SUM(D66:D67) -> 855089344 | E68: =SUM(E66:E67) -> 950814047 | F68: =SUM(F66:F67) -> 869902547 | G68: =SUM(G66:G67) -> -80911500
A69: 합계 | D69: =D68 -> 855089344 | E69: =SUM(E68) -> 950814047 | F69: =SUM(F68) -> 869902547 | G69: =SUM(G68) -> -80911500
A70: 이월금 | B70: 이월금 | C70: 보조금이월금 | D70: 0 | E70: 0 | F70: 692986213 | G70: =F70-E70 -> 692986213 | H70: 사업비 -특성화사업비 32,600,000 -종사자복지포인트 112,500 -열린맘임신출산서비스 5,026,000 -공동육아 보듬밥상 23,418,000 -이픈아이 30,000,000 -안심귀가 1,093,900 -희망이음 15,000,000 -외국인정착주거지원 90,000,000 -아이돌봄(5개사업) 477,377,396 -센터운영(추가) 3,438,230 -베트남통번역 13,469,000 -상담취업보조 1,426,000 이자 25,187
C71: 후원금이월금 | D71: 0 | E71: 0 | F71: 15822748 | G71: =F71-E71 -> 15822748
C72: 사업비이월금 | D72: 0 | E72: 0 | F72: 0 | G72: =F72-E72 -> 0
C73: 법인전입금이월금 | D73: 0 | E73: 0 | F73: 3104656 | G73: =F73-E73 -> 3104656
C74: 이월금 | D74: 0 | E74: 0 | F74: 0 | G74: =F74-E74 -> 0
C75: (소계) | D75: =SUM(D70:D74) -> 0 | E75: =SUM(E70:E74) -> 0 | F75: =SUM(F70:F74) -> 711913617 | G75: =SUM(G70:G74) -> 711913617
A76: 합계 | D76: =D75 -> 0 | E76: =SUM(E75) -> 0 | F76: =SUM(F75) -> 711913617 | G76: =SUM(G75) -> 711913617
A77: 총계 | D77: =D23+D28+D62+D65+D69+D76 -> 7438600000 | E77: =SUM(E76,E69,E65,E62,E28,E23) -> 7855953000 | F77: =SUM(F76,F69,F65,F62,F28,F23) -> 7858942934 | G77: =SUM(G76,G69,G65,G62,G28,G23) -> 2989934
